Package: stepNorm Version: 1.72.0 Command: /Library/Frameworks/R.framework/Resources/bin/R CMD INSTALL stepNorm StartedAt: 2023-10-15 15:09:20 -0400 (Sun, 15 Oct 2023) EndedAt: 2023-10-15 15:10:01 -0400 (Sun, 15 Oct 2023) EllapsedTime: 41.3 seconds RetCode: 0 Status: OK