Package: stepNorm Version: 1.72.0 Command: /Library/Frameworks/R.framework/Resources/bin/R CMD check --install=check:stepNorm.install-out.txt --library=/Library/Frameworks/R.framework/Resources/library --no-vignettes --timings stepNorm_1.72.0.tar.gz StartedAt: 2023-10-16 07:43:38 -0400 (Mon, 16 Oct 2023) EndedAt: 2023-10-16 07:46:23 -0400 (Mon, 16 Oct 2023) EllapsedTime: 165.0 seconds RetCode: 0 Status: OK CheckDir: stepNorm.Rcheck Warnings: 0