Package: stepNorm Version: 1.72.0 Command: /Library/Frameworks/R.framework/Resources/bin/R CMD build --keep-empty-dirs --no-resave-data stepNorm StartedAt: 2023-10-15 21:43:29 -0400 (Sun, 15 Oct 2023) EndedAt: 2023-10-15 21:43:31 -0400 (Sun, 15 Oct 2023) EllapsedTime: 2.2 seconds RetCode: 0 Status: OK PackageFile: stepNorm_1.72.0.tar.gz PackageFileSize: 460.1 KiB