Package: stJoincount Version: 1.2.0 Command: /Library/Frameworks/R.framework/Resources/bin/R CMD check --install=check:stJoincount.install-out.txt --library=/Library/Frameworks/R.framework/Resources/library --no-vignettes --timings stJoincount_1.2.0.tar.gz StartedAt: 2023-10-16 07:43:49 -0400 (Mon, 16 Oct 2023) EndedAt: 2023-10-16 08:01:01 -0400 (Mon, 16 Oct 2023) EllapsedTime: 1032.5 seconds RetCode: 0 Status: OK CheckDir: stJoincount.Rcheck Warnings: 0