Package: stJoincount Version: 1.2.0 Command: /Library/Frameworks/R.framework/Resources/bin/R CMD build --keep-empty-dirs --no-resave-data stJoincount StartedAt: 2023-10-15 21:43:31 -0400 (Sun, 15 Oct 2023) EndedAt: 2023-10-15 21:47:02 -0400 (Sun, 15 Oct 2023) EllapsedTime: 211.0 seconds RetCode: 0 Status: OK PackageFile: stJoincount_1.2.0.tar.gz PackageFileSize: 2.68 MiB