Package: stJoincount Version: 1.2.0 Command: rm -rf stJoincount.buildbin-libdir && mkdir stJoincount.buildbin-libdir && /Users/biocbuild/BBS/utils/build-universal.sh stJoincount_1.2.0.tar.gz /Library/Frameworks/R.framework/Resources/bin/R stJoincount.buildbin-libdir StartedAt: 2023-10-16 10:18:42 -0400 (Mon, 16 Oct 2023) EndedAt: 2023-10-16 10:21:55 -0400 (Mon, 16 Oct 2023) EllapsedTime: 193.1 seconds RetCode: 0 Status: OK PackageFile: stJoincount_1.2.0.tgz PackageFileSize: 2.711 MiB