Package: ssviz Version: 1.34.0 Command: chmod a+r ssviz -R && F:\biocbuild\bbs-3.17-bioc\R\bin\R.exe CMD build --keep-empty-dirs --no-resave-data ssviz StartedAt: 2023-10-15 22:40:59 -0400 (Sun, 15 Oct 2023) EndedAt: 2023-10-15 22:41:29 -0400 (Sun, 15 Oct 2023) EllapsedTime: 30.4 seconds RetCode: 0 Status: OK PackageFile: ssviz_1.34.0.tar.gz PackageFileSize: 1013 KiB