Package: ssviz Version: 1.34.0 Command: /Library/Frameworks/R.framework/Resources/bin/R CMD build --keep-empty-dirs --no-resave-data ssviz StartedAt: 2023-10-15 21:41:52 -0400 (Sun, 15 Oct 2023) EndedAt: 2023-10-15 21:43:04 -0400 (Sun, 15 Oct 2023) EllapsedTime: 72.0 seconds RetCode: 0 Status: OK PackageFile: ssviz_1.34.0.tar.gz PackageFileSize: 1.153 MiB