Package: ssrch Version: 1.16.0 Command: /home/biocbuild/bbs-3.17-bioc/R/bin/R CMD check --install=check:ssrch.install-out.txt --library=/home/biocbuild/bbs-3.17-bioc/R/site-library --timings ssrch_1.16.0.tar.gz StartedAt: 2023-10-16 01:29:07 -0400 (Mon, 16 Oct 2023) EndedAt: 2023-10-16 01:29:38 -0400 (Mon, 16 Oct 2023) EllapsedTime: 30.7 seconds RetCode: 0 Status: OK CheckDir: ssrch.Rcheck Warnings: 0