git_url: https://git.bioconductor.org/packages/ssrch git_branch: RELEASE_3_17 git_last_commit: 3670e9b git_last_commit_date: 2023-04-25 11:09:33 -0400 (Tue, 25 Apr 2023) Package: ssrch Version: 1.16.0 Maintainer: VJ Carey MaintainerEmail: stvjc at channing.harvard.edu