Package: ssize Version: 1.74.0 Command: F:\biocbuild\bbs-3.17-bioc\R\bin\R.exe CMD INSTALL ssize StartedAt: 2023-10-15 15:48:14 -0400 (Sun, 15 Oct 2023) EndedAt: 2023-10-15 15:48:25 -0400 (Sun, 15 Oct 2023) EllapsedTime: 11.1 seconds RetCode: 0 Status: OK