Package: ssize Version: 1.74.0 Command: rm -rf ssize.buildbin-libdir && mkdir ssize.buildbin-libdir && F:\biocbuild\bbs-3.17-bioc\R\bin\R.exe CMD INSTALL --build --library=ssize.buildbin-libdir ssize_1.74.0.tar.gz StartedAt: 2023-10-16 09:36:31 -0400 (Mon, 16 Oct 2023) EndedAt: 2023-10-16 09:36:37 -0400 (Mon, 16 Oct 2023) EllapsedTime: 6.1 seconds RetCode: 0 Status: OK PackageFile: ssize_1.74.0.zip PackageFileSize: 364 KiB