Package: ssize Version: 1.74.0 Command: /home/biocbuild/bbs-3.17-bioc/R/bin/R CMD check --install=check:ssize.install-out.txt --library=/home/biocbuild/bbs-3.17-bioc/R/site-library --timings ssize_1.74.0.tar.gz StartedAt: 2023-10-16 01:28:43 -0400 (Mon, 16 Oct 2023) EndedAt: 2023-10-16 01:29:07 -0400 (Mon, 16 Oct 2023) EllapsedTime: 23.7 seconds RetCode: 0 Status: OK CheckDir: ssize.Rcheck Warnings: 0