Package: ssize Version: 1.74.0 Command: /home/biocbuild/bbs-3.17-bioc/R/bin/R CMD build --keep-empty-dirs --no-resave-data ssize StartedAt: 2023-10-15 18:41:48 -0400 (Sun, 15 Oct 2023) EndedAt: 2023-10-15 18:41:54 -0400 (Sun, 15 Oct 2023) EllapsedTime: 5.4 seconds RetCode: 0 Status: OK PackageFile: ssize_1.74.0.tar.gz PackageFileSize: 365.5 KiB