Package: sscu Version: 2.30.0 Command: F:\biocbuild\bbs-3.17-bioc\R\bin\R.exe CMD INSTALL sscu StartedAt: 2023-10-15 15:58:38 -0400 (Sun, 15 Oct 2023) EndedAt: 2023-10-15 15:58:53 -0400 (Sun, 15 Oct 2023) EllapsedTime: 15.1 seconds RetCode: 0 Status: OK