Package: sscu Version: 2.30.0 Command: rm -rf sscu.buildbin-libdir && mkdir sscu.buildbin-libdir && F:\biocbuild\bbs-3.17-bioc\R\bin\R.exe CMD INSTALL --build --library=sscu.buildbin-libdir sscu_2.30.0.tar.gz StartedAt: 2023-10-16 09:36:27 -0400 (Mon, 16 Oct 2023) EndedAt: 2023-10-16 09:36:47 -0400 (Mon, 16 Oct 2023) EllapsedTime: 19.6 seconds RetCode: 0 Status: OK PackageFile: sscu_2.30.0.zip PackageFileSize: 1.324 MiB