Package: sscu Version: 2.30.0 Command: /home/biocbuild/bbs-3.17-bioc/R/bin/R CMD build --keep-empty-dirs --no-resave-data sscu StartedAt: 2023-10-15 18:41:33 -0400 (Sun, 15 Oct 2023) EndedAt: 2023-10-15 18:41:48 -0400 (Sun, 15 Oct 2023) EllapsedTime: 15.3 seconds RetCode: 0 Status: OK PackageFile: sscu_2.30.0.tar.gz PackageFileSize: 1.287 MiB