Package: sscu Version: 2.30.0 Command: /Library/Frameworks/R.framework/Resources/bin/R CMD INSTALL sscu StartedAt: 2023-10-15 15:11:39 -0400 (Sun, 15 Oct 2023) EndedAt: 2023-10-15 15:12:14 -0400 (Sun, 15 Oct 2023) EllapsedTime: 34.9 seconds RetCode: 0 Status: OK