Package: sscu Version: 2.30.0 Command: /Library/Frameworks/R.framework/Resources/bin/R CMD build --keep-empty-dirs --no-resave-data sscu StartedAt: 2023-10-15 21:40:39 -0400 (Sun, 15 Oct 2023) EndedAt: 2023-10-15 21:41:18 -0400 (Sun, 15 Oct 2023) EllapsedTime: 38.7 seconds RetCode: 0 Status: OK PackageFile: sscu_2.30.0.tar.gz PackageFileSize: 1.287 MiB