Package: sscu Version: 2.30.0 Command: rm -rf sscu.buildbin-libdir && mkdir sscu.buildbin-libdir && /Users/biocbuild/BBS/utils/build-universal.sh sscu_2.30.0.tar.gz /Library/Frameworks/R.framework/Resources/bin/R sscu.buildbin-libdir StartedAt: 2023-10-16 10:18:08 -0400 (Mon, 16 Oct 2023) EndedAt: 2023-10-16 10:18:47 -0400 (Mon, 16 Oct 2023) EllapsedTime: 38.8 seconds RetCode: 0 Status: OK PackageFile: sscu_2.30.0.tgz PackageFileSize: 1.371 MiB