Package: sscore Version: 1.72.0 Command: /home/biocbuild/bbs-3.17-bioc/R/bin/R CMD build --keep-empty-dirs --no-resave-data sscore StartedAt: 2023-10-15 18:41:27 -0400 (Sun, 15 Oct 2023) EndedAt: 2023-10-15 18:41:56 -0400 (Sun, 15 Oct 2023) EllapsedTime: 29.0 seconds RetCode: 0 Status: OK PackageFile: sscore_1.72.0.tar.gz PackageFileSize: 331.7 KiB