Package: sscore Version: 1.72.0 Command: /Library/Frameworks/R.framework/Resources/bin/R CMD INSTALL sscore StartedAt: 2023-10-15 15:07:15 -0400 (Sun, 15 Oct 2023) EndedAt: 2023-10-15 15:07:59 -0400 (Sun, 15 Oct 2023) EllapsedTime: 43.8 seconds RetCode: 0 Status: OK