Package: sscore Version: 1.72.0 Command: /Library/Frameworks/R.framework/Resources/bin/R CMD check --install=check:sscore.install-out.txt --library=/Library/Frameworks/R.framework/Resources/library --no-vignettes --timings sscore_1.72.0.tar.gz StartedAt: 2023-10-16 07:38:38 -0400 (Mon, 16 Oct 2023) EndedAt: 2023-10-16 07:39:53 -0400 (Mon, 16 Oct 2023) EllapsedTime: 74.2 seconds RetCode: 0 Status: OK CheckDir: sscore.Rcheck Warnings: 0