Package: sscore Version: 1.72.0 Command: rm -rf sscore.buildbin-libdir && mkdir sscore.buildbin-libdir && /Users/biocbuild/BBS/utils/build-universal.sh sscore_1.72.0.tar.gz /Library/Frameworks/R.framework/Resources/bin/R sscore.buildbin-libdir StartedAt: 2023-10-16 10:18:04 -0400 (Mon, 16 Oct 2023) EndedAt: 2023-10-16 10:18:18 -0400 (Mon, 16 Oct 2023) EllapsedTime: 13.6 seconds RetCode: 0 Status: OK PackageFile: sscore_1.72.0.tgz PackageFileSize: 332.3 KiB