Package: ssPATHS Version: 1.14.0 Command: F:\biocbuild\bbs-3.17-bioc\R\bin\R.exe CMD check --no-multiarch --install=check:ssPATHS.install-out.txt --library=F:\biocbuild\bbs-3.17-bioc\R\library --no-vignettes --timings ssPATHS_1.14.0.tar.gz StartedAt: 2023-10-16 07:18:32 -0400 (Mon, 16 Oct 2023) EndedAt: 2023-10-16 07:21:22 -0400 (Mon, 16 Oct 2023) EllapsedTime: 170.0 seconds RetCode: 0 Status: OK CheckDir: ssPATHS.Rcheck Warnings: 0