Package: ssPATHS Version: 1.14.0 Command: chmod a+r ssPATHS -R && F:\biocbuild\bbs-3.17-bioc\R\bin\R.exe CMD build --keep-empty-dirs --no-resave-data ssPATHS StartedAt: 2023-10-15 22:40:48 -0400 (Sun, 15 Oct 2023) EndedAt: 2023-10-15 22:41:24 -0400 (Sun, 15 Oct 2023) EllapsedTime: 36.4 seconds RetCode: 0 Status: OK PackageFile: ssPATHS_1.14.0.tar.gz PackageFileSize: 3.581 MiB