Package: ssPATHS Version: 1.14.0 Command: rm -rf ssPATHS.buildbin-libdir && mkdir ssPATHS.buildbin-libdir && F:\biocbuild\bbs-3.17-bioc\R\bin\R.exe CMD INSTALL --build --library=ssPATHS.buildbin-libdir ssPATHS_1.14.0.tar.gz StartedAt: 2023-10-16 09:36:34 -0400 (Mon, 16 Oct 2023) EndedAt: 2023-10-16 09:37:02 -0400 (Mon, 16 Oct 2023) EllapsedTime: 28.3 seconds RetCode: 0 Status: OK PackageFile: ssPATHS_1.14.0.zip PackageFileSize: 3.611 MiB