Package: splots Version: 1.66.0 Command: F:\biocbuild\bbs-3.17-bioc\R\bin\R.exe CMD check --no-multiarch --install=check:splots.install-out.txt --library=F:\biocbuild\bbs-3.17-bioc\R\library --no-vignettes --timings splots_1.66.0.tar.gz StartedAt: 2023-10-16 07:15:26 -0400 (Mon, 16 Oct 2023) EndedAt: 2023-10-16 07:15:46 -0400 (Mon, 16 Oct 2023) EllapsedTime: 20.4 seconds RetCode: 0 Status: OK CheckDir: splots.Rcheck Warnings: 0