Package: splots Version: 1.66.0 Command: chmod a+r splots -R && F:\biocbuild\bbs-3.17-bioc\R\bin\R.exe CMD build --keep-empty-dirs --no-resave-data splots StartedAt: 2023-10-15 22:37:12 -0400 (Sun, 15 Oct 2023) EndedAt: 2023-10-15 22:44:06 -0400 (Sun, 15 Oct 2023) EllapsedTime: 414.1 seconds RetCode: 0 Status: OK PackageFile: splots_1.66.0.tar.gz PackageFileSize: 342.2 KiB