Package: splots Version: 1.66.0 Command: rm -rf splots.buildbin-libdir && mkdir splots.buildbin-libdir && F:\biocbuild\bbs-3.17-bioc\R\bin\R.exe CMD INSTALL --build --library=splots.buildbin-libdir splots_1.66.0.tar.gz StartedAt: 2023-10-16 09:35:59 -0400 (Mon, 16 Oct 2023) EndedAt: 2023-10-16 09:36:07 -0400 (Mon, 16 Oct 2023) EllapsedTime: 8.0 seconds RetCode: 0 Status: OK PackageFile: splots_1.66.0.zip PackageFileSize: 362.5 KiB