Package: splots Version: 1.66.0 Command: /home/biocbuild/bbs-3.17-bioc/R/bin/R CMD build --keep-empty-dirs --no-resave-data splots StartedAt: 2023-10-15 18:39:56 -0400 (Sun, 15 Oct 2023) EndedAt: 2023-10-15 18:41:36 -0400 (Sun, 15 Oct 2023) EllapsedTime: 99.8 seconds RetCode: 0 Status: OK PackageFile: splots_1.66.0.tar.gz PackageFileSize: 379.1 KiB