Package: splots Version: 1.66.0 Command: /Library/Frameworks/R.framework/Resources/bin/R CMD INSTALL splots StartedAt: 2023-10-15 15:06:19 -0400 (Sun, 15 Oct 2023) EndedAt: 2023-10-15 15:06:49 -0400 (Sun, 15 Oct 2023) EllapsedTime: 30.5 seconds RetCode: 0 Status: OK