Package: splots Version: 1.66.0 Command: rm -rf splots.buildbin-libdir && mkdir splots.buildbin-libdir && /Users/biocbuild/BBS/utils/build-universal.sh splots_1.66.0.tar.gz /Library/Frameworks/R.framework/Resources/bin/R splots.buildbin-libdir StartedAt: 2023-10-16 10:17:48 -0400 (Mon, 16 Oct 2023) EndedAt: 2023-10-16 10:17:54 -0400 (Mon, 16 Oct 2023) EllapsedTime: 6.4 seconds RetCode: 0 Status: OK PackageFile: splots_1.66.0.tgz PackageFileSize: 426.8 KiB