Package: splineTimeR Version: 1.28.0 Command: F:\biocbuild\bbs-3.17-bioc\R\bin\R.exe CMD INSTALL splineTimeR StartedAt: 2023-10-15 16:09:26 -0400 (Sun, 15 Oct 2023) EndedAt: 2023-10-15 16:09:46 -0400 (Sun, 15 Oct 2023) EllapsedTime: 19.9 seconds RetCode: 0 Status: OK