Package: splineTimeR Version: 1.28.0 Command: /home/biocbuild/bbs-3.17-bioc/R/bin/R CMD build --keep-empty-dirs --no-resave-data splineTimeR StartedAt: 2023-10-15 18:39:47 -0400 (Sun, 15 Oct 2023) EndedAt: 2023-10-15 18:40:26 -0400 (Sun, 15 Oct 2023) EllapsedTime: 38.7 seconds RetCode: 0 Status: OK PackageFile: splineTimeR_1.28.0.tar.gz PackageFileSize: 1.099 MiB