Package: splineTimeR Version: 1.28.0 Command: /Library/Frameworks/R.framework/Resources/bin/R CMD check --install=check:splineTimeR.install-out.txt --library=/Library/Frameworks/R.framework/Resources/library --no-vignettes --timings splineTimeR_1.28.0.tar.gz StartedAt: 2023-10-16 07:32:44 -0400 (Mon, 16 Oct 2023) EndedAt: 2023-10-16 07:38:38 -0400 (Mon, 16 Oct 2023) EllapsedTime: 354.0 seconds RetCode: 0 Status: OK CheckDir: splineTimeR.Rcheck Warnings: 0