Package: splineTimeR Version: 1.28.0 Command: /Library/Frameworks/R.framework/Resources/bin/R CMD build --keep-empty-dirs --no-resave-data splineTimeR StartedAt: 2023-10-15 21:37:16 -0400 (Sun, 15 Oct 2023) EndedAt: 2023-10-15 21:38:58 -0400 (Sun, 15 Oct 2023) EllapsedTime: 102.2 seconds RetCode: 0 Status: OK PackageFile: splineTimeR_1.28.0.tar.gz PackageFileSize: 1.226 MiB