Package: splatter Version: 1.24.0 Command: F:\biocbuild\bbs-3.17-bioc\R\bin\R.exe CMD check --no-multiarch --install=check:splatter.install-out.txt --library=F:\biocbuild\bbs-3.17-bioc\R\library --no-vignettes --timings splatter_1.24.0.tar.gz StartedAt: 2023-10-16 07:12:36 -0400 (Mon, 16 Oct 2023) EndedAt: 2023-10-16 07:20:55 -0400 (Mon, 16 Oct 2023) EllapsedTime: 498.3 seconds RetCode: 0 Status: OK CheckDir: splatter.Rcheck Warnings: 0