Package: splatter Version: 1.24.0 Command: /Library/Frameworks/R.framework/Resources/bin/R CMD check --install=check:splatter.install-out.txt --library=/Library/Frameworks/R.framework/Resources/library --no-vignettes --timings splatter_1.24.0.tar.gz StartedAt: 2023-10-16 07:30:21 -0400 (Mon, 16 Oct 2023) EndedAt: 2023-10-16 07:49:09 -0400 (Mon, 16 Oct 2023) EllapsedTime: 1128.3 seconds RetCode: 0 Status: OK CheckDir: splatter.Rcheck Warnings: 0