Package: spkTools Version: 1.56.0 Command: rm -rf spkTools.buildbin-libdir && mkdir spkTools.buildbin-libdir && F:\biocbuild\bbs-3.17-bioc\R\bin\R.exe CMD INSTALL --build --library=spkTools.buildbin-libdir spkTools_1.56.0.tar.gz StartedAt: 2023-10-16 09:35:46 -0400 (Mon, 16 Oct 2023) EndedAt: 2023-10-16 09:35:59 -0400 (Mon, 16 Oct 2023) EllapsedTime: 12.9 seconds RetCode: 0 Status: OK PackageFile: spkTools_1.56.0.zip PackageFileSize: 714.8 KiB