Package: spkTools Version: 1.56.0 Command: /home/biocbuild/bbs-3.17-bioc/R/bin/R CMD check --install=check:spkTools.install-out.txt --library=/home/biocbuild/bbs-3.17-bioc/R/site-library --timings spkTools_1.56.0.tar.gz StartedAt: 2023-10-16 01:23:24 -0400 (Mon, 16 Oct 2023) EndedAt: 2023-10-16 01:25:00 -0400 (Mon, 16 Oct 2023) EllapsedTime: 96.0 seconds RetCode: 0 Status: OK CheckDir: spkTools.Rcheck Warnings: 0