Package: spkTools Version: 1.56.0 Command: /Library/Frameworks/R.framework/Resources/bin/R CMD INSTALL spkTools StartedAt: 2023-10-15 15:05:08 -0400 (Sun, 15 Oct 2023) EndedAt: 2023-10-15 15:05:53 -0400 (Sun, 15 Oct 2023) EllapsedTime: 45.3 seconds RetCode: 0 Status: OK