Package: spkTools Version: 1.56.0 Command: /Library/Frameworks/R.framework/Resources/bin/R CMD check --install=check:spkTools.install-out.txt --library=/Library/Frameworks/R.framework/Resources/library --no-vignettes --timings spkTools_1.56.0.tar.gz StartedAt: 2023-10-16 07:30:06 -0400 (Mon, 16 Oct 2023) EndedAt: 2023-10-16 07:33:17 -0400 (Mon, 16 Oct 2023) EllapsedTime: 190.5 seconds RetCode: 0 Status: OK CheckDir: spkTools.Rcheck Warnings: 0