Package: spkTools Version: 1.56.0 Command: /Library/Frameworks/R.framework/Resources/bin/R CMD build --keep-empty-dirs --no-resave-data spkTools StartedAt: 2023-10-15 21:36:44 -0400 (Sun, 15 Oct 2023) EndedAt: 2023-10-15 21:37:16 -0400 (Sun, 15 Oct 2023) EllapsedTime: 32.0 seconds RetCode: 0 Status: OK PackageFile: spkTools_1.56.0.tar.gz PackageFileSize: 664.2 KiB