Package: spiky Version: 1.6.0 Command: F:\biocbuild\bbs-3.17-bioc\R\bin\R.exe CMD INSTALL spiky StartedAt: 2023-10-15 16:38:23 -0400 (Sun, 15 Oct 2023) EndedAt: 2023-10-15 16:39:17 -0400 (Sun, 15 Oct 2023) EllapsedTime: 53.7 seconds RetCode: 0 Status: OK