Package: spiky Version: 1.6.0 Command: chmod a+r spiky -R && F:\biocbuild\bbs-3.17-bioc\R\bin\R.exe CMD build --keep-empty-dirs --no-resave-data spiky StartedAt: 2023-10-15 22:35:54 -0400 (Sun, 15 Oct 2023) EndedAt: 2023-10-15 22:37:41 -0400 (Sun, 15 Oct 2023) EllapsedTime: 107.4 seconds RetCode: 0 Status: OK PackageFile: spiky_1.6.0.tar.gz PackageFileSize: 14.31 MiB