Package: spiky Version: 1.6.0 Command: rm -rf spiky.buildbin-libdir && mkdir spiky.buildbin-libdir && F:\biocbuild\bbs-3.17-bioc\R\bin\R.exe CMD INSTALL --build --library=spiky.buildbin-libdir spiky_1.6.0.tar.gz StartedAt: 2023-10-16 09:35:45 -0400 (Mon, 16 Oct 2023) EndedAt: 2023-10-16 09:36:38 -0400 (Mon, 16 Oct 2023) EllapsedTime: 53.4 seconds RetCode: 0 Status: OK PackageFile: spiky_1.6.0.zip PackageFileSize: 15.34 MiB