Package: spiky Version: 1.6.0 Command: /Library/Frameworks/R.framework/Resources/bin/R CMD INSTALL spiky StartedAt: 2023-10-15 16:01:29 -0400 (Sun, 15 Oct 2023) EndedAt: 2023-10-15 16:03:33 -0400 (Sun, 15 Oct 2023) EllapsedTime: 124.1 seconds RetCode: 0 Status: OK