Package: spiky Version: 1.6.0 Command: rm -rf spiky.buildbin-libdir && mkdir spiky.buildbin-libdir && /Users/biocbuild/BBS/utils/build-universal.sh spiky_1.6.0.tar.gz /Library/Frameworks/R.framework/Resources/bin/R spiky.buildbin-libdir StartedAt: 2023-10-16 10:17:26 -0400 (Mon, 16 Oct 2023) EndedAt: 2023-10-16 10:19:38 -0400 (Mon, 16 Oct 2023) EllapsedTime: 132.5 seconds RetCode: 0 Status: OK PackageFile: spiky_1.6.0.tgz PackageFileSize: 15.35 MiB