Package: spikeLI Version: 2.60.0 Command: chmod a+r spikeLI -R && F:\biocbuild\bbs-3.17-bioc\R\bin\R.exe CMD build --keep-empty-dirs --no-resave-data spikeLI StartedAt: 2023-10-15 22:35:53 -0400 (Sun, 15 Oct 2023) EndedAt: 2023-10-15 22:36:04 -0400 (Sun, 15 Oct 2023) EllapsedTime: 11.0 seconds RetCode: 0 Status: OK PackageFile: spikeLI_2.60.0.tar.gz PackageFileSize: 290.8 KiB